BEGIN:VCALENDAR
VERSION:2.0
PRODID:-//Indiana Humanities - ECPv6.15.6//NONSGML v1.0//EN
CALSCALE:GREGORIAN
METHOD:PUBLISH
X-WR-CALNAME:Indiana Humanities
X-ORIGINAL-URL:https://indianahumanities.org
X-WR-CALDESC:Events for Indiana Humanities
REFRESH-INTERVAL;VALUE=DURATION:PT1H
X-Robots-Tag:noindex
X-PUBLISHED-TTL:PT1H
BEGIN:VTIMEZONE
TZID:America/Indiana/Indianapolis
BEGIN:DAYLIGHT
TZOFFSETFROM:-0500
TZOFFSETTO:-0400
TZNAME:EDT
DTSTART:20220313T070000
END:DAYLIGHT
BEGIN:STANDARD
TZOFFSETFROM:-0400
TZOFFSETTO:-0500
TZNAME:EST
DTSTART:20221106T060000
END:STANDARD
BEGIN:DAYLIGHT
TZOFFSETFROM:-0500
TZOFFSETTO:-0400
TZNAME:EDT
DTSTART:20230312T070000
END:DAYLIGHT
BEGIN:STANDARD
TZOFFSETFROM:-0400
TZOFFSETTO:-0500
TZNAME:EST
DTSTART:20231105T060000
END:STANDARD
BEGIN:DAYLIGHT
TZOFFSETFROM:-0500
TZOFFSETTO:-0400
TZNAME:EDT
DTSTART:20240310T070000
END:DAYLIGHT
BEGIN:STANDARD
TZOFFSETFROM:-0400
TZOFFSETTO:-0500
TZNAME:EST
DTSTART:20241103T060000
END:STANDARD
END:VTIMEZONE
BEGIN:VTIMEZONE
TZID:America/New_York
BEGIN:DAYLIGHT
TZOFFSETFROM:-0500
TZOFFSETTO:-0400
TZNAME:EDT
DTSTART:20200308T070000
END:DAYLIGHT
BEGIN:STANDARD
TZOFFSETFROM:-0400
TZOFFSETTO:-0500
TZNAME:EST
DTSTART:20201101T060000
END:STANDARD
BEGIN:DAYLIGHT
TZOFFSETFROM:-0500
TZOFFSETTO:-0400
TZNAME:EDT
DTSTART:20210314T070000
END:DAYLIGHT
BEGIN:STANDARD
TZOFFSETFROM:-0400
TZOFFSETTO:-0500
TZNAME:EST
DTSTART:20211107T060000
END:STANDARD
BEGIN:DAYLIGHT
TZOFFSETFROM:-0500
TZOFFSETTO:-0400
TZNAME:EDT
DTSTART:20220313T070000
END:DAYLIGHT
BEGIN:STANDARD
TZOFFSETFROM:-0400
TZOFFSETTO:-0500
TZNAME:EST
DTSTART:20221106T060000
END:STANDARD
END:VTIMEZONE
BEGIN:VEVENT
DTSTART;TZID=America/Indiana/Indianapolis:20230503T190000
DTEND;TZID=America/Indiana/Indianapolis:20230503T203000
DTSTAMP:20260423T045936
CREATED:20230327T145200Z
LAST-MODIFIED:20230427T131737Z
UID:10001427-1683140400-1683145800@indianahumanities.org
SUMMARY:Liminal Film Tour: DePauw University (Greencastle)
DESCRIPTION:Indiana Humanities is hosting a multi-city film tour for the brand new film\, Liminal: Indiana in the Anthropocene. Liminal is a meditative aerial film that illustrates our state as a microcosm of this new planetary epoch. It captures features of this global phenomenon within the boundaries of our state\, collapsing the global into the local. This event is part of the Unearthed initiative\, Indiana Humanities’ multiyear environmental theme that asks Hoosiers to consider how we affect the environment and how the environment affects us.  \nSee the trailer here: http://liminalmovie.com/.  \nSCHEDULE \n6:30 PM Doors open (Please note: early entry will not be permitted)  \n7:00 PM Film screening begins \n8:00 PM Film screening concludes / Filmmaker Q&A begins \n8:30 Q&A concludes \nThis event is free and open to the public. \nPlease note: Though advance registration is requested\, a ticket does not guarantee you a seat. Spots are available on a first-come\, first-served basis and we will oversell this event. Doors open 30 minutes prior to start time. Please check our website and Facebook page (@INhumanities) for the most up-to-date information on COVID-19 safety protocols at this and other locations. \nThese films are recommended for viewers over the age of 12.
URL:https://indianahumanities.org/event/liminal-film-tour-depauw-university-greencastle/
LOCATION:Richard E. Peeler Art Center\, 10 W. Hanna St.\, Greencastle\, IN\, 46135
CATEGORIES:Indiana Humanities Event
END:VEVENT
BEGIN:VEVENT
DTSTART;TZID=America/New_York:20210901T183000
DTEND;TZID=America/New_York:20210901T213000
DTSTAMP:20260423T045936
CREATED:20210825T140849Z
LAST-MODIFIED:20210831T115353Z
UID:10000992-1630521000-1630531800@indianahumanities.org
SUMMARY:Man on Fire Screening and Q&A
DESCRIPTION:The Castle\, a Putnam County–based nonprofit\, hosts filmmakers Joel Fendelman and James Chase Sanchez for a screening of their award-winning documentary Man on Fire\, which tells the story of a preacher in Texas who set himself on fire to protest the racist history of his town. The evening’s programming begins at 6:30 p.m. at DePauw University’s Richard E. Peeler Art Center with a reception in the lobby. The screening follows at 7:30 and includes a Q&A session with Fendelman and Sanchez\, The program serves as the kickoff to a new project that Fendelman is undertaking—a documentary titled North Putnam\, which focuses on the intersections between the North Putnam School Corporation and the surrounding community in an effort to shed light on rural America. \nFor more information\, contact Beth Benedix at bbenedix@depauw.edu. \nThis program received support from an Indiana Humanities Action Grant.
URL:https://indianahumanities.org/event/man-on-fire-screening-and-qa/
LOCATION:Richard E. Peeler Art Center\, 10 W. Hanna St.\, Greencastle\, IN\, 46135
CATEGORIES:Grantee Event
END:VEVENT
END:VCALENDAR