BEGIN:VCALENDAR
VERSION:2.0
PRODID:-//Indiana Humanities - ECPv6.15.6//NONSGML v1.0//EN
CALSCALE:GREGORIAN
METHOD:PUBLISH
X-ORIGINAL-URL:https://indianahumanities.org
X-WR-CALDESC:Events for Indiana Humanities
REFRESH-INTERVAL;VALUE=DURATION:PT1H
X-Robots-Tag:noindex
X-PUBLISHED-TTL:PT1H
BEGIN:VTIMEZONE
TZID:America/New_York
BEGIN:DAYLIGHT
TZOFFSETFROM:-0500
TZOFFSETTO:-0400
TZNAME:EDT
DTSTART:20250309T070000
END:DAYLIGHT
BEGIN:STANDARD
TZOFFSETFROM:-0400
TZOFFSETTO:-0500
TZNAME:EST
DTSTART:20251102T060000
END:STANDARD
BEGIN:DAYLIGHT
TZOFFSETFROM:-0500
TZOFFSETTO:-0400
TZNAME:EDT
DTSTART:20260308T070000
END:DAYLIGHT
BEGIN:STANDARD
TZOFFSETFROM:-0400
TZOFFSETTO:-0500
TZNAME:EST
DTSTART:20261101T060000
END:STANDARD
BEGIN:DAYLIGHT
TZOFFSETFROM:-0500
TZOFFSETTO:-0400
TZNAME:EDT
DTSTART:20270314T070000
END:DAYLIGHT
BEGIN:STANDARD
TZOFFSETFROM:-0400
TZOFFSETTO:-0500
TZNAME:EST
DTSTART:20271107T060000
END:STANDARD
END:VTIMEZONE
BEGIN:VEVENT
DTSTART;TZID=America/New_York:20260615T140000
DTEND;TZID=America/New_York:20260615T160000
DTSTAMP:20260419T100339
CREATED:20260323T193503Z
LAST-MODIFIED:20260329T174633Z
UID:10001921-1781532000-1781539200@indianahumanities.org
SUMMARY:History in Plain Sight: Above-Ground Archaeology Bingo
DESCRIPTION:History in Plain Sight invites you to uncover the hidden stories all around you. Through a guided walking tour\, interactive Archaeology Bingo\, and creative storytelling\, participants learn to “read” everyday details—like a bent sidewalk or a mysterious window—as clues to the past. This engaging\, hands-on experience transforms ordinary surroundings into extraordinary discoveries\, empowering you to see your community with fresh eyes and become a steward of its history. \nFor details about registering\, visit the Ruthmere website by clicking on the RSVP link above. \nFor additional information\, email info@ruthmere.org or call 574.264.0330 \nThis program received support from a Historic Preservation Education Grant awarded by Indiana Humanities and Indiana Landmarks.
URL:https://indianahumanities.org/event/history-in-plain-sight-above-ground-archaeology-bingo/2026-06-15/
LOCATION:Beardsley Discovery Center\, 819 N. Main St.\, Elkhart\, IN\, 46514
CATEGORIES:Grantee Event
END:VEVENT
BEGIN:VEVENT
DTSTART;TZID=America/New_York:20260720T140000
DTEND;TZID=America/New_York:20260720T160000
DTSTAMP:20260419T100339
CREATED:20260323T193503Z
LAST-MODIFIED:20260329T174633Z
UID:10001922-1784556000-1784563200@indianahumanities.org
SUMMARY:History in Plain Sight: Above-Ground Archaeology Bingo
DESCRIPTION:History in Plain Sight invites you to uncover the hidden stories all around you. Through a guided walking tour\, interactive Archaeology Bingo\, and creative storytelling\, participants learn to “read” everyday details—like a bent sidewalk or a mysterious window—as clues to the past. This engaging\, hands-on experience transforms ordinary surroundings into extraordinary discoveries\, empowering you to see your community with fresh eyes and become a steward of its history. \nFor details about registering\, visit the Ruthmere website by clicking on the RSVP link above. \nFor additional information\, email info@ruthmere.org or call 574.264.0330 \nThis program received support from a Historic Preservation Education Grant awarded by Indiana Humanities and Indiana Landmarks.
URL:https://indianahumanities.org/event/history-in-plain-sight-above-ground-archaeology-bingo/2026-07-20/
LOCATION:Beardsley Discovery Center\, 819 N. Main St.\, Elkhart\, IN\, 46514
CATEGORIES:Grantee Event
END:VEVENT
BEGIN:VEVENT
DTSTART;TZID=America/New_York:20260817T140000
DTEND;TZID=America/New_York:20260817T160000
DTSTAMP:20260419T100339
CREATED:20260323T193503Z
LAST-MODIFIED:20260329T174633Z
UID:10001923-1786975200-1786982400@indianahumanities.org
SUMMARY:History in Plain Sight: Above-Ground Archaeology Bingo
DESCRIPTION:History in Plain Sight invites you to uncover the hidden stories all around you. Through a guided walking tour\, interactive Archaeology Bingo\, and creative storytelling\, participants learn to “read” everyday details—like a bent sidewalk or a mysterious window—as clues to the past. This engaging\, hands-on experience transforms ordinary surroundings into extraordinary discoveries\, empowering you to see your community with fresh eyes and become a steward of its history. \nFor details about registering\, visit the Ruthmere website by clicking on the RSVP link above. \nFor additional information\, email info@ruthmere.org or call 574.264.0330 \nThis program received support from a Historic Preservation Education Grant awarded by Indiana Humanities and Indiana Landmarks.
URL:https://indianahumanities.org/event/history-in-plain-sight-above-ground-archaeology-bingo/2026-08-17/
LOCATION:Beardsley Discovery Center\, 819 N. Main St.\, Elkhart\, IN\, 46514
CATEGORIES:Grantee Event
END:VEVENT
BEGIN:VEVENT
DTSTART;TZID=America/New_York:20260921T140000
DTEND;TZID=America/New_York:20260921T160000
DTSTAMP:20260419T100339
CREATED:20260323T193503Z
LAST-MODIFIED:20260329T174633Z
UID:10001924-1789999200-1790006400@indianahumanities.org
SUMMARY:History in Plain Sight: Above-Ground Archaeology Bingo
DESCRIPTION:History in Plain Sight invites you to uncover the hidden stories all around you. Through a guided walking tour\, interactive Archaeology Bingo\, and creative storytelling\, participants learn to “read” everyday details—like a bent sidewalk or a mysterious window—as clues to the past. This engaging\, hands-on experience transforms ordinary surroundings into extraordinary discoveries\, empowering you to see your community with fresh eyes and become a steward of its history. \nFor details about registering\, visit the Ruthmere website by clicking on the RSVP link above. \nFor additional information\, email info@ruthmere.org or call 574.264.0330 \nThis program received support from a Historic Preservation Education Grant awarded by Indiana Humanities and Indiana Landmarks.
URL:https://indianahumanities.org/event/history-in-plain-sight-above-ground-archaeology-bingo/2026-09-21/
LOCATION:Beardsley Discovery Center\, 819 N. Main St.\, Elkhart\, IN\, 46514
CATEGORIES:Grantee Event
END:VEVENT
BEGIN:VEVENT
DTSTART;TZID=America/New_York:20261019T140000
DTEND;TZID=America/New_York:20261019T160000
DTSTAMP:20260419T100339
CREATED:20260323T193503Z
LAST-MODIFIED:20260329T174633Z
UID:10001920-1792418400-1792425600@indianahumanities.org
SUMMARY:History in Plain Sight: Above-Ground Archaeology Bingo
DESCRIPTION:History in Plain Sight invites you to uncover the hidden stories all around you. Through a guided walking tour\, interactive Archaeology Bingo\, and creative storytelling\, participants learn to “read” everyday details—like a bent sidewalk or a mysterious window—as clues to the past. This engaging\, hands-on experience transforms ordinary surroundings into extraordinary discoveries\, empowering you to see your community with fresh eyes and become a steward of its history. \nFor details about registering\, visit the Ruthmere website by clicking on the RSVP link above. \nFor additional information\, email info@ruthmere.org or call 574.264.0330 \nThis program received support from a Historic Preservation Education Grant awarded by Indiana Humanities and Indiana Landmarks.
URL:https://indianahumanities.org/event/history-in-plain-sight-above-ground-archaeology-bingo/2026-10-19/
LOCATION:Beardsley Discovery Center\, 819 N. Main St.\, Elkhart\, IN\, 46514
CATEGORIES:Grantee Event
END:VEVENT
END:VCALENDAR