BEGIN:VCALENDAR
VERSION:2.0
PRODID:-//Indiana Humanities - ECPv6.15.6//NONSGML v1.0//EN
CALSCALE:GREGORIAN
METHOD:PUBLISH
X-ORIGINAL-URL:https://indianahumanities.org
X-WR-CALDESC:Events for Indiana Humanities
REFRESH-INTERVAL;VALUE=DURATION:PT1H
X-Robots-Tag:noindex
X-PUBLISHED-TTL:PT1H
BEGIN:VTIMEZONE
TZID:America/Indiana/Indianapolis
BEGIN:DAYLIGHT
TZOFFSETFROM:-0500
TZOFFSETTO:-0400
TZNAME:EDT
DTSTART:20240310T070000
END:DAYLIGHT
BEGIN:STANDARD
TZOFFSETFROM:-0400
TZOFFSETTO:-0500
TZNAME:EST
DTSTART:20241103T060000
END:STANDARD
BEGIN:DAYLIGHT
TZOFFSETFROM:-0500
TZOFFSETTO:-0400
TZNAME:EDT
DTSTART:20250309T070000
END:DAYLIGHT
BEGIN:STANDARD
TZOFFSETFROM:-0400
TZOFFSETTO:-0500
TZNAME:EST
DTSTART:20251102T060000
END:STANDARD
BEGIN:DAYLIGHT
TZOFFSETFROM:-0500
TZOFFSETTO:-0400
TZNAME:EDT
DTSTART:20260308T070000
END:DAYLIGHT
BEGIN:STANDARD
TZOFFSETFROM:-0400
TZOFFSETTO:-0500
TZNAME:EST
DTSTART:20261101T060000
END:STANDARD
END:VTIMEZONE
BEGIN:VEVENT
DTSTART;TZID=America/Indiana/Indianapolis:20251014T180000
DTEND;TZID=America/Indiana/Indianapolis:20251014T190000
DTSTAMP:20260419T085908
CREATED:20250521T190621Z
LAST-MODIFIED:20250521T190925Z
UID:10001797-1760464800-1760468400@indianahumanities.org
SUMMARY:Michael Martone at Saint Mary's College
DESCRIPTION:Join Saint Mary’s College for a visit by award-winning Indiana author Michael Martone! Michael Martone will read from his recent works in a public event beginning at 6pm. The event will be held in the Stapleton Lounge in Le Mans Hall. A Q&A and book signing to follow. Light snacks provided.
URL:https://indianahumanities.org/event/michael-martone-at-saint-marys-college/
LOCATION:Saint Mary’s College\, 149 St Mary S College\, Notre Dame\, IN\, 46556\, United States
CATEGORIES:Indiana Authors Awards
END:VEVENT
BEGIN:VEVENT
DTSTART;TZID=America/Indiana/Indianapolis:20250920T150000
DTEND;TZID=America/Indiana/Indianapolis:20250920T190000
DTSTAMP:20260419T085908
CREATED:20250715T013429Z
LAST-MODIFIED:20250715T013844Z
UID:10001821-1758380400-1758394800@indianahumanities.org
SUMMARY:Ed Fujawa at Washington County Historical Society
DESCRIPTION:We are so excited to be holding our Indiana Authors Day event for the second year in a row!\nThis year we will once again be holding a local authors fair from 3pm to 5pm featuring a variety of local Hoosier authors who will be sharing their works\, signing books\, and answering any questions about their writing processes. Following the fair\, at 5:30pm we will introduce our special guest speaker\, Edward Fujawa. He will be giving a talk on his book ‘Vanishing Indianapolis’\, his research process\, and he’ll even share sneak peeks about his upcoming project covering the Monon Trail! \nThis event is being held at the Depot Railroad Museum at The John Hay Center in Salem\, Indiana. The event is free to attend\, and any questions or concerns can be shared at info@johnhaycenter.org!
URL:https://indianahumanities.org/event/ed-fujawa-wchs/
LOCATION:The Depot Museum at the John Hay Center\, 206 S College Ave\, Salem\, Indiana\, 47167
CATEGORIES:Indiana Authors Awards
END:VEVENT
END:VCALENDAR