BEGIN:VCALENDAR
VERSION:2.0
PRODID:-//Indiana Humanities - ECPv6.15.6//NONSGML v1.0//EN
CALSCALE:GREGORIAN
METHOD:PUBLISH
X-WR-CALNAME:Indiana Humanities
X-ORIGINAL-URL:https://indianahumanities.org
X-WR-CALDESC:Events for Indiana Humanities
REFRESH-INTERVAL;VALUE=DURATION:PT1H
X-Robots-Tag:noindex
X-PUBLISHED-TTL:PT1H
BEGIN:VTIMEZONE
TZID:America/Indiana/Indianapolis
BEGIN:DAYLIGHT
TZOFFSETFROM:-0500
TZOFFSETTO:-0400
TZNAME:EDT
DTSTART:20250309T070000
END:DAYLIGHT
BEGIN:STANDARD
TZOFFSETFROM:-0400
TZOFFSETTO:-0500
TZNAME:EST
DTSTART:20251102T060000
END:STANDARD
BEGIN:DAYLIGHT
TZOFFSETFROM:-0500
TZOFFSETTO:-0400
TZNAME:EDT
DTSTART:20260308T070000
END:DAYLIGHT
BEGIN:STANDARD
TZOFFSETFROM:-0400
TZOFFSETTO:-0500
TZNAME:EST
DTSTART:20261101T060000
END:STANDARD
BEGIN:DAYLIGHT
TZOFFSETFROM:-0500
TZOFFSETTO:-0400
TZNAME:EDT
DTSTART:20270314T070000
END:DAYLIGHT
BEGIN:STANDARD
TZOFFSETFROM:-0400
TZOFFSETTO:-0500
TZNAME:EST
DTSTART:20271107T060000
END:STANDARD
END:VTIMEZONE
BEGIN:VEVENT
DTSTART;TZID=America/Indiana/Indianapolis:20260326T133000
DTEND;TZID=America/Indiana/Indianapolis:20260326T150000
DTSTAMP:20260419T090808
CREATED:20260228T015710Z
LAST-MODIFIED:20260228T015758Z
UID:10001909-1774531800-1774537200@indianahumanities.org
SUMMARY:WNIT Presents: THE AMERICAN REVOLUTION at the Museum Campus (South Bend)
DESCRIPTION:A Free Public Event Celebrating America’s 250th Anniversary \nThe Studebaker National Museum and The History Museum are proud to join WNIT in presenting a special afternoon program exploring the enduring legacy of the American Revolution. : The History Museum’s Archivist\, Travis Childs\, will offer a talk on local Revolutionary War veterans\, and Studebaker National Museum Curator\, Kyle Sater\, will explore the Museum’s surprising connection to Revolutionary War hero the Marquis de Lafayette. Guests will also have the opportunity to view Lafayette’s Barouche — the oldest vehicle in the Studebaker Collection. The carriage was commissioned by the U.S. Government for the French general’s celebrated Farewell Tour of America in 1824\, making it one of the most historically significant objects in the region. \nCorporate funding for THE AMERICAN REVOLUTION was provided by Bank of America. Major funding was provided by The Better Angels Society and its members Jeannie and Jonathan Lavine with the Crimson Lion Foundation; and the Blavatnik Family Foundation. Major funding was also provided by David M. Rubenstein; The Robert D. and Patricia E. Kern Family Foundation; Lilly Endowment Inc.; and the following Better Angels Society members: Eric and Wendy Schmidt; Stephen A. Schwarzman; and Kenneth C. Griffin with Griffin Catalyst. Additional support for THE AMERICAN REVOLUTION was provided by: The Arthur Vining Davis Foundations; The Pew Charitable Trusts; Gilbert S. Omenn and Martha A. Darling; Park Foundation; and the following Better Angels Society members: Gilchrist and Amy Berg; Perry and Donna Golkin; The Michelson Foundation; Jacqueline B. Mars; Kissick Family Foundation; Diane and Hal Brierley; John H. N. Fisher and Jennifer Caldwell; John and Catherine Debs; The Fullerton Family Charitable Fund; Philip I. Kent; Gail Elden; Deborah and Jon Dawson; David and Susan Kreisman; The McCloskey Family Charitable Trust; Becky and Jim Morgan; Carol and Ned Spieker; Mark A. Tracy; and Paul and Shelley Whyte. THE AMERICAN REVOLUTION was made possible\, in part\, with support from the Corporation for Public Broadcasting.
URL:https://indianahumanities.org/event/wnit-presents-the-american-revolution-at-the-museum-campus-south-bend/
LOCATION:The History Museum\, 808 W. Washington St.\, South Bend\, IN\, 46601
CATEGORIES:Community Event
END:VEVENT
END:VCALENDAR